* using log directory ‘/builds/Rdatatable/data.table/data.table.Rcheck’ * using R Under development (unstable) (2025-04-16 r88149) * using platform: x86_64-pc-linux-gnu * R was compiled by Debian clang version 19.1.7 (3) GNU Fortran (Debian 14.2.0-19) 14.2.0 * running under: Debian GNU/Linux trixie/sid * using session charset: UTF-8 * using option ‘--no-manual’ * checking for file ‘data.table/DESCRIPTION’ ... OK * this is package ‘data.table’ version ‘1.17.99’ * package encoding: UTF-8 * checking package namespace information ... OK * checking package dependencies ... OK * checking if this is a source package ... OK * checking if there is a namespace ... OK * checking for .dll and .exe files ... OK * checking for hidden files and directories ... OK * checking for portable file names ... OK * checking for sufficient/correct file permissions ... OK * checking whether package ‘data.table’ can be installed ... OK * used C compiler: ‘Debian clang version 19.1.7 (3)’ * checking installed package size ... INFO installed size is 9.6Mb sub-directories of 1Mb or more: libs 4.0Mb po 1.6Mb tests 1.9Mb * checking package directory ... OK * checking ‘build’ directory ... OK * checking DESCRIPTION meta-information ... OK * checking top-level files ... OK * checking for left-over files ... OK * checking index information ... OK * checking package subdirectories ... OK * checking code files for non-ASCII characters ... OK * checking R files for syntax errors ... OK * checking whether the package can be loaded ... OK * checking whether the package can be loaded with stated dependencies ... OK * checking whether the package can be unloaded cleanly ... OK * checking whether the namespace can be loaded with stated dependencies ... OK * checking whether the namespace can be unloaded cleanly ... OK * checking loading without being on the library search path ... OK * checking whether startup messages can be suppressed ... OK * checking dependencies in R code ... OK * checking S3 generic/method consistency ... OK * checking replacement functions ... OK * checking foreign function calls ... OK * checking R code for possible problems ... OK * checking Rd files ... OK * checking Rd metadata ... OK * checking Rd cross-references ... OK * checking for missing documentation entries ... OK * checking for code/documentation mismatches ... OK * checking Rd \usage sections ... OK * checking Rd contents ... OK * checking for unstated dependencies in examples ... OK * checking line endings in shell scripts ... OK * checking line endings in C/C++/Fortran sources/headers ... OK * checking line endings in Makefiles ... OK * checking compilation flags in Makevars ... OK * checking for GNU extensions in Makefiles ... OK * checking for portable use of $(BLAS_LIBS) and $(LAPACK_LIBS) ... OK * checking use of PKG_*FLAGS in Makefiles ... OK * checking compiled code ... NOTE File ‘data.table/libs/data_table.so’: Found non-API calls to R: ‘SETLENGTH’, ‘SET_GROWABLE_BIT’, ‘SET_TRUELENGTH’, ‘TRUELENGTH’ Compiled code should not call non-API entry points in R. See ‘Writing portable packages’ in the ‘Writing R Extensions’ manual, and section ‘Moving into C API compliance’ for issues with the use of non-API entry points. * checking installed files from ‘inst/doc’ ... OK * checking files in ‘vignettes’ ... OK * checking examples ... OK * checking for unstated dependencies in ‘tests’ ... OK * checking tests ... OK Running ‘autoprint.R’ Comparing ‘autoprint.Rout’ to ‘autoprint.Rout.save’ ... OK Running ‘froll.R’ Running ‘knitr.R’ Comparing ‘knitr.Rout’ to ‘knitr.Rout.save’ ... OK Running ‘main.R’ Running ‘nafill.R’ Running ‘other.R’ Running ‘programming.R’ Running ‘S4.R’ Running ‘types.R’ * checking for unstated dependencies in vignettes ... OK * checking package vignettes ... OK * checking re-building of vignette outputs ... OK * DONE Status: 1 NOTE